BEGIN:VCALENDAR
VERSION:2.0
PRODID:-//Sommens Segelsällskap - ECPv6.15.20//NONSGML v1.0//EN
CALSCALE:GREGORIAN
METHOD:PUBLISH
X-ORIGINAL-URL:https://sommensss.se
X-WR-CALDESC:Händelser för Sommens Segelsällskap
REFRESH-INTERVAL;VALUE=DURATION:PT1H
X-Robots-Tag:noindex
X-PUBLISHED-TTL:PT1H
BEGIN:VTIMEZONE
TZID:Europe/Stockholm
BEGIN:DAYLIGHT
TZOFFSETFROM:+0100
TZOFFSETTO:+0200
TZNAME:CEST
DTSTART:20240331T010000
END:DAYLIGHT
BEGIN:STANDARD
TZOFFSETFROM:+0200
TZOFFSETTO:+0100
TZNAME:CET
DTSTART:20241027T010000
END:STANDARD
BEGIN:DAYLIGHT
TZOFFSETFROM:+0100
TZOFFSETTO:+0200
TZNAME:CEST
DTSTART:20250330T010000
END:DAYLIGHT
BEGIN:STANDARD
TZOFFSETFROM:+0200
TZOFFSETTO:+0100
TZNAME:CET
DTSTART:20251026T010000
END:STANDARD
BEGIN:DAYLIGHT
TZOFFSETFROM:+0100
TZOFFSETTO:+0200
TZNAME:CEST
DTSTART:20260329T010000
END:DAYLIGHT
BEGIN:STANDARD
TZOFFSETFROM:+0200
TZOFFSETTO:+0100
TZNAME:CET
DTSTART:20261025T010000
END:STANDARD
BEGIN:DAYLIGHT
TZOFFSETFROM:+0100
TZOFFSETTO:+0200
TZNAME:CEST
DTSTART:20270328T010000
END:DAYLIGHT
BEGIN:STANDARD
TZOFFSETFROM:+0200
TZOFFSETTO:+0100
TZNAME:CET
DTSTART:20271031T010000
END:STANDARD
END:VTIMEZONE
BEGIN:VEVENT
DTSTART;TZID=Europe/Stockholm:20250807T180000
DTEND;TZID=Europe/Stockholm:20250807T193000
DTSTAMP:20260426T023921
CREATED:20250525T202231Z
LAST-MODIFIED:20250728T063138Z
UID:10087-1754589600-1754595000@sommensss.se
SUMMARY:Seglarskola 2025
DESCRIPTION:Seglarskolan riktar sig till barn och ungdomar i alla åldrar som vill lära sig grunderna i segling och\nsjömanskap. Det enda förkunskapskravet är simkunnighet. \nTorsdag kl.18.00-19.30 v.23-26 och v.31-36 i Seglarvik. \nVi seglar med optimistjollar och RS Tera i vilka man seglar ensam samt 2 st Fabola Pokus med\nplats för 3-4 personer. Vi anpassar aktiviteten utifrån ålder och kunskapsnivå och kommer\nintroducera kappsegling för de som blivit varma i kläderna. Vid några tillfällen kommer vi segla\nmed ledarnas egna större båtar och vid dåligt väder kör vi teori och praktiska färdigheter inomhus. \nKostnaden är 250:- och då ingår medlemskap i föreningen (kostnadsfritt om man redan är medlem). \nFör anmälan och eventuella frågor hör av er till Aron Afzelius:\naron.afzelius@gmail.com / 070-2979257\nVid anmälan behövs följande uppgifter:\nBarnets namn\, personnummer och adress.\nNamn och telefonnummer till förälder/ansvarig vuxen\nUppgifter om eventuella förkunskaper i segling.
URL:https://sommensss.se/event/seglarskola-2025-6/
LOCATION:Seglarvik
CATEGORIES:Event,Seglarskola,Segling
ATTACH;FMTTYPE=image/jpeg:https://sommensss.se/wp-content/uploads/2025/05/Seglarskola-scaled.jpg
END:VEVENT
BEGIN:VEVENT
DTSTART;TZID=Europe/Stockholm:20250814T180000
DTEND;TZID=Europe/Stockholm:20250814T193000
DTSTAMP:20260426T023921
CREATED:20250525T202432Z
LAST-MODIFIED:20250728T063247Z
UID:10089-1755194400-1755199800@sommensss.se
SUMMARY:Seglarskola 2025
DESCRIPTION:Seglarskolan riktar sig till barn och ungdomar i alla åldrar som vill lära sig grunderna i segling och\nsjömanskap. Det enda förkunskapskravet är simkunnighet. \nTorsdag kl.18.00-19.30 v.23-26 och v.31-36 i Seglarvik. \nVi seglar med optimistjollar och RS Tera i vilka man seglar ensam samt 2 st Fabola Pokus med\nplats för 3-4 personer. Vi anpassar aktiviteten utifrån ålder och kunskapsnivå och kommer\nintroducera kappsegling för de som blivit varma i kläderna. Vid några tillfällen kommer vi segla\nmed ledarnas egna större båtar och vid dåligt väder kör vi teori och praktiska färdigheter inomhus. \nKostnaden är 250:- och då ingår medlemskap i föreningen (kostnadsfritt om man redan är medlem). \nFör anmälan och eventuella frågor hör av er till Aron Afzelius:\naron.afzelius@gmail.com / 070-2979257\nVid anmälan behövs följande uppgifter:\nBarnets namn\, personnummer och adress.\nNamn och telefonnummer till förälder/ansvarig vuxen\nUppgifter om eventuella förkunskaper i segling.
URL:https://sommensss.se/event/seglarskola-2025-7/
LOCATION:Seglarvik
CATEGORIES:Event,Seglarskola,Segling
ATTACH;FMTTYPE=image/jpeg:https://sommensss.se/wp-content/uploads/2025/05/Seglarskola-scaled.jpg
END:VEVENT
BEGIN:VEVENT
DTSTART;TZID=Europe/Stockholm:20250814T190000
DTEND;TZID=Europe/Stockholm:20250814T210000
DTSTAMP:20260426T023921
CREATED:20241126T203145Z
LAST-MODIFIED:20241126T203145Z
UID:9942-1755198000-1755205200@sommensss.se
SUMMARY:Styrelsemöte höst 2025
DESCRIPTION:Dags för styrelsemöte \nVälkommen
URL:https://sommensss.se/event/styrelsemote-host-2025/
LOCATION:Seglarvik
CATEGORIES:Event,Möten,Styrelse
ATTACH;FMTTYPE=image/jpeg:https://sommensss.se/wp-content/uploads/2022/03/Utsikt-Seglarvik.jpg
END:VEVENT
BEGIN:VEVENT
DTSTART;TZID=Europe/Stockholm:20250821T180000
DTEND;TZID=Europe/Stockholm:20250821T193000
DTSTAMP:20260426T023921
CREATED:20250525T202641Z
LAST-MODIFIED:20250728T063429Z
UID:10091-1755799200-1755804600@sommensss.se
SUMMARY:Seglarskola 2025
DESCRIPTION:Seglarskolan riktar sig till barn och ungdomar i alla åldrar som vill lära sig grunderna i segling och\nsjömanskap. Det enda förkunskapskravet är simkunnighet. \nTorsdag kl.18.00-19.30 v.23-26 och v.31-36 i Seglarvik. \nVi seglar med optimistjollar och RS Tera i vilka man seglar ensam samt 2 st Fabola Pokus med\nplats för 3-4 personer. Vi anpassar aktiviteten utifrån ålder och kunskapsnivå och kommer\nintroducera kappsegling för de som blivit varma i kläderna. Vid några tillfällen kommer vi segla\nmed ledarnas egna större båtar och vid dåligt väder kör vi teori och praktiska färdigheter inomhus. \nKostnaden är 250:- och då ingår medlemskap i föreningen (kostnadsfritt om man redan är medlem). \nFör anmälan och eventuella frågor hör av er till Aron Afzelius:\naron.afzelius@gmail.com / 070-2979257\nVid anmälan behövs följande uppgifter:\nBarnets namn\, personnummer och adress.\nNamn och telefonnummer till förälder/ansvarig vuxen\nUppgifter om eventuella förkunskaper i segling.
URL:https://sommensss.se/event/seglarskola-2025-8/
LOCATION:Seglarvik
CATEGORIES:Event,Seglarskola,Segling
ATTACH;FMTTYPE=image/jpeg:https://sommensss.se/wp-content/uploads/2025/05/Seglarskola-scaled.jpg
END:VEVENT
BEGIN:VEVENT
DTSTART;TZID=Europe/Stockholm:20250828T180000
DTEND;TZID=Europe/Stockholm:20250828T193000
DTSTAMP:20260426T023921
CREATED:20250525T202811Z
LAST-MODIFIED:20250728T063542Z
UID:10093-1756404000-1756409400@sommensss.se
SUMMARY:Seglarskola 2025
DESCRIPTION:Seglarskolan riktar sig till barn och ungdomar i alla åldrar som vill lära sig grunderna i segling och\nsjömanskap. Det enda förkunskapskravet är simkunnighet. \nTorsdag kl.18.00-19.30 v.23-26 och v.31-36 i Seglarvik. \nVi seglar med optimistjollar och RS Tera i vilka man seglar ensam samt 2 st Fabola Pokus med\nplats för 3-4 personer. Vi anpassar aktiviteten utifrån ålder och kunskapsnivå och kommer\nintroducera kappsegling för de som blivit varma i kläderna. Vid några tillfällen kommer vi segla\nmed ledarnas egna större båtar och vid dåligt väder kör vi teori och praktiska färdigheter inomhus. \nKostnaden är 250:- och då ingår medlemskap i föreningen (kostnadsfritt om man redan är medlem). \nFör anmälan och eventuella frågor hör av er till Aron Afzelius:\naron.afzelius@gmail.com / 070-2979257\nVid anmälan behövs följande uppgifter:\nBarnets namn\, personnummer och adress.\nNamn och telefonnummer till förälder/ansvarig vuxen\nUppgifter om eventuella förkunskaper i segling.
URL:https://sommensss.se/event/seglarskola-2025-9/
LOCATION:Seglarvik
CATEGORIES:Event,Seglarskola,Segling
END:VEVENT
BEGIN:VEVENT
DTSTART;TZID=Europe/Stockholm:20250904T180000
DTEND;TZID=Europe/Stockholm:20250904T193000
DTSTAMP:20260426T023921
CREATED:20250525T202944Z
LAST-MODIFIED:20250728T063645Z
UID:10095-1757008800-1757014200@sommensss.se
SUMMARY:Seglarskola 2025
DESCRIPTION:Seglarskolan riktar sig till barn och ungdomar i alla åldrar som vill lära sig grunderna i segling och\nsjömanskap. Det enda förkunskapskravet är simkunnighet. \nTorsdag kl.18.00-19.30 v.23-26 och v.31-36 i Seglarvik. \nVi seglar med optimistjollar och RS Tera i vilka man seglar ensam samt 2 st Fabola Pokus med\nplats för 3-4 personer. Vi anpassar aktiviteten utifrån ålder och kunskapsnivå och kommer\nintroducera kappsegling för de som blivit varma i kläderna. Vid några tillfällen kommer vi segla\nmed ledarnas egna större båtar och vid dåligt väder kör vi teori och praktiska färdigheter inomhus. \nKostnaden är 250:- och då ingår medlemskap i föreningen (kostnadsfritt om man redan är medlem). \nFör anmälan och eventuella frågor hör av er till Aron Afzelius:\naron.afzelius@gmail.com / 070-2979257\nVid anmälan behövs följande uppgifter:\nBarnets namn\, personnummer och adress.\nNamn och telefonnummer till förälder/ansvarig vuxen\nUppgifter om eventuella förkunskaper i segling.
URL:https://sommensss.se/event/seglarskola-2025-10/
LOCATION:Seglarvik
CATEGORIES:Event,Seglarskola,Segling
ATTACH;FMTTYPE=image/jpeg:https://sommensss.se/wp-content/uploads/2025/05/Seglarskola-scaled.jpg
END:VEVENT
BEGIN:VEVENT
DTSTART;TZID=Europe/Stockholm:20250911T190000
DTEND;TZID=Europe/Stockholm:20250911T210000
DTSTAMP:20260426T023921
CREATED:20241126T203356Z
LAST-MODIFIED:20241126T203356Z
UID:9944-1757617200-1757624400@sommensss.se
SUMMARY:Styrelsemöte höst 2025
DESCRIPTION:Dags för styrelsemöte \nVälkommen
URL:https://sommensss.se/event/styrelsemote-host-2025-2/
LOCATION:Seglarvik
CATEGORIES:Event,Möten,Styrelse
ATTACH;FMTTYPE=image/jpeg:https://sommensss.se/wp-content/uploads/2024/10/DSC09745-scaled.jpg
END:VEVENT
BEGIN:VEVENT
DTSTART;TZID=Europe/Stockholm:20251009T190000
DTEND;TZID=Europe/Stockholm:20251009T210000
DTSTAMP:20260426T023921
CREATED:20241126T203634Z
LAST-MODIFIED:20241126T203736Z
UID:9946-1760036400-1760043600@sommensss.se
SUMMARY:Styrelsemöte höst 2025
DESCRIPTION:Dags för styrelsemöte \nVälkommen
URL:https://sommensss.se/event/styrelsemote-host-2025-3/
LOCATION:Seglarvik
CATEGORIES:Event,Möten,Styrelse
ATTACH;FMTTYPE=image/jpeg:https://sommensss.se/wp-content/uploads/2022/03/Kvallskapp-2017_mot-prick.jpg
END:VEVENT
BEGIN:VEVENT
DTSTART;TZID=Europe/Stockholm:20251018T090000
DTEND;TZID=Europe/Stockholm:20251018T130000
DTSTAMP:20260426T023922
CREATED:20220314T081258Z
LAST-MODIFIED:20241116T063617Z
UID:6460-1760778000-1760792400@sommensss.se
SUMMARY:Y-bommar upptagning 2025
DESCRIPTION:
URL:https://sommensss.se/event/y-bommar-upptagning/
LOCATION:Seglarvik
CATEGORIES:Event,Hamnen,y-bommar
ATTACH;FMTTYPE=image/jpeg:https://sommensss.se/wp-content/uploads/2022/03/y-bom_smal.jpg
END:VEVENT
BEGIN:VEVENT
DTSTART;TZID=Europe/Stockholm:20251106T190000
DTEND;TZID=Europe/Stockholm:20251106T213000
DTSTAMP:20260426T023922
CREATED:20241116T055200Z
LAST-MODIFIED:20241116T055200Z
UID:9881-1762455600-1762464600@sommensss.se
SUMMARY:Årsmöte 2025
DESCRIPTION:Välkommen till Årsmöte 2025 \n 
URL:https://sommensss.se/event/arsmote-2025/
LOCATION:Seglarvik
CATEGORIES:Event,Möten,Styrelse
ATTACH;FMTTYPE=image/jpeg:https://sommensss.se/wp-content/uploads/2024/11/Arsmote-2024_2-scaled.jpg
END:VEVENT
BEGIN:VEVENT
DTSTART;TZID=Europe/Stockholm:20251113T190000
DTEND;TZID=Europe/Stockholm:20251113T210000
DTSTAMP:20260426T023922
CREATED:20241126T203934Z
LAST-MODIFIED:20241126T203934Z
UID:9948-1763060400-1763067600@sommensss.se
SUMMARY:Styrelsemöte höst 2025
DESCRIPTION:Dags för styrelsemöte \nVälkommen
URL:https://sommensss.se/event/styrelsemote-host-2025-4/
LOCATION:Seglarvik
CATEGORIES:Event,Möten,Styrelse
ATTACH;FMTTYPE=image/jpeg:https://sommensss.se/wp-content/uploads/2024/08/IMG_2641-scaled.jpg
END:VEVENT
BEGIN:VEVENT
DTSTART;TZID=Europe/Stockholm:20251214T160000
DTEND;TZID=Europe/Stockholm:20251214T180000
DTSTAMP:20260426T023922
CREATED:20251207T195440Z
LAST-MODIFIED:20251207T204704Z
UID:10608-1765728000-1765735200@sommensss.se
SUMMARY:Advents fika i Seglarvik
DESCRIPTION:Välkommen på advents fika den 14 december kl 16 i klubbhuset. \nVi tittar på bilder\, filmer (Aron Gotland Runt) och fikar. \nKontakta Patrik Risberg för mer information. \nSommens Segelsällskap \n 
URL:https://sommensss.se/event/advents-fika-i-seglarvik/
LOCATION:Seglarvik
CATEGORIES:Event,Möten
ATTACH;FMTTYPE=image/jpeg:https://sommensss.se/wp-content/uploads/2025/12/Advensfika-2025-12-14.jpg
END:VEVENT
BEGIN:VEVENT
DTSTART;TZID=Europe/Stockholm:20260212T190000
DTEND;TZID=Europe/Stockholm:20260212T210000
DTSTAMP:20260426T023922
CREATED:20260115T100514Z
LAST-MODIFIED:20260115T112737Z
UID:10692-1770922800-1770930000@sommensss.se
SUMMARY:Styrelsemöte
DESCRIPTION:Styrelsemöte i Seglarvik kl.19.00
URL:https://sommensss.se/event/styrelsemote-9/
LOCATION:Seglarvik
CATEGORIES:Event,Styrelse,Styrelsemöte
END:VEVENT
BEGIN:VEVENT
DTSTART;TZID=Europe/Stockholm:20260305T190000
DTEND;TZID=Europe/Stockholm:20260305T210000
DTSTAMP:20260426T023922
CREATED:20241116T060915Z
LAST-MODIFIED:20241116T060915Z
UID:9887-1772737200-1772744400@sommensss.se
SUMMARY:Vintermöte 2026
DESCRIPTION:Vintermöte 5/3 2026
URL:https://sommensss.se/event/vintermote-2026/
LOCATION:Seglarvik
CATEGORIES:Event,Möten,Styrelse
ATTACH;FMTTYPE=image/jpeg:https://sommensss.se/wp-content/uploads/2022/03/Seglarvik-vinterbilder01.jpg
END:VEVENT
BEGIN:VEVENT
DTSTART;TZID=Europe/Stockholm:20260312T190000
DTEND;TZID=Europe/Stockholm:20260312T210000
DTSTAMP:20260426T023922
CREATED:20260115T100703Z
LAST-MODIFIED:20260115T113034Z
UID:10694-1773342000-1773349200@sommensss.se
SUMMARY:Styrelsemöte 2026
DESCRIPTION:Styrelsemöte i Seglarvik kl.19.00
URL:https://sommensss.se/event/styrelsemote-2026/
CATEGORIES:Event,Styrelse,Styrelsemöte
END:VEVENT
BEGIN:VEVENT
DTSTART;TZID=Europe/Stockholm:20260409T190000
DTEND;TZID=Europe/Stockholm:20260409T210000
DTSTAMP:20260426T023922
CREATED:20260115T100841Z
LAST-MODIFIED:20260115T100841Z
UID:10696-1775761200-1775768400@sommensss.se
SUMMARY:Styrelsemöte 2026
DESCRIPTION:Styrelsemöte i Seglarvik kl.19.00
URL:https://sommensss.se/event/styrelsemote-2026-2/
LOCATION:Seglarvik
CATEGORIES:Event,Styrelse,Styrelsemöte
END:VEVENT
BEGIN:VEVENT
DTSTART;TZID=Europe/Stockholm:20260425T090000
DTEND;TZID=Europe/Stockholm:20260425T130000
DTSTAMP:20260426T023922
CREATED:20241116T062506Z
LAST-MODIFIED:20241116T062533Z
UID:9895-1777107600-1777122000@sommensss.se
SUMMARY:Iläggning Y-bommar 2026
DESCRIPTION:Iläggning Y-bommar\, tomtstädning kl 9 – 13:\nLördag 25/4
URL:https://sommensss.se/event/ilaggning-y-bommar/
LOCATION:Seglarvik
CATEGORIES:Event,Möten,y-bommar
ATTACH;FMTTYPE=image/jpeg:https://sommensss.se/wp-content/uploads/2023/05/Y-bom-upp-2023_02-scaled.jpg
END:VEVENT
BEGIN:VEVENT
DTSTART;TZID=Europe/Stockholm:20260502T090000
DTEND;TZID=Europe/Stockholm:20260502T120000
DTSTAMP:20260426T023922
CREATED:20240316T153340Z
LAST-MODIFIED:20260325T173347Z
UID:9105-1777712400-1777723200@sommensss.se
SUMMARY:Sjösättning med kranen våren 2026
DESCRIPTION:Seglarvik\nKranen i Seglarviks hamn är bemannad mellan 9:00 – 12:00\n\n\n 
URL:https://sommensss.se/event/kran-i-seglarvik/
LOCATION:Seglarvik
CATEGORIES:Event,Hamnen,Kran
END:VEVENT
BEGIN:VEVENT
DTSTART;TZID=Europe/Stockholm:20260507T080000
DTEND;TZID=Europe/Stockholm:20260507T170000
DTSTAMP:20260426T023922
CREATED:20241116T061245Z
LAST-MODIFIED:20241116T061245Z
UID:9889-1778140800-1778173200@sommensss.se
SUMMARY:Vårmöte 2026
DESCRIPTION:Vårmöte 7/5
URL:https://sommensss.se/event/varmote-2026/
LOCATION:Seglarvik
CATEGORIES:Event,Möten,Styrelse
ATTACH;FMTTYPE=image/jpeg:https://sommensss.se/wp-content/uploads/2023/05/DSC05462.jpg
END:VEVENT
BEGIN:VEVENT
DTSTART;TZID=Europe/Stockholm:20260509T090000
DTEND;TZID=Europe/Stockholm:20260509T120000
DTSTAMP:20260426T023922
CREATED:20240316T153459Z
LAST-MODIFIED:20260325T174716Z
UID:9107-1778317200-1778328000@sommensss.se
SUMMARY:Sjösättning med kranen Våren 2026
DESCRIPTION:Seglarvik\nKranen i Seglarviks hamn är bemannad mellan 9:00 – 12:00
URL:https://sommensss.se/event/kran-i-seglarvik-2/
LOCATION:Seglarvik
CATEGORIES:Event,Kran
END:VEVENT
BEGIN:VEVENT
DTSTART;TZID=Europe/Stockholm:20260512T170000
DTEND;TZID=Europe/Stockholm:20260512T190000
DTSTAMP:20260426T023922
CREATED:20260311T195545Z
LAST-MODIFIED:20260320T062051Z
UID:10764-1778605200-1778612400@sommensss.se
SUMMARY:Segling "Avrostning"
DESCRIPTION:En segling för att komma igång inför säsongen
URL:https://sommensss.se/event/segling-avrostning/
CATEGORIES:Event,Kappsegling,Segling
ATTACH;FMTTYPE=image/jpeg:https://sommensss.se/wp-content/uploads/2026/01/Ragnars-video-Sommen-Runt.jpg
END:VEVENT
BEGIN:VEVENT
DTSTART;TZID=Europe/Stockholm:20260516T090000
DTEND;TZID=Europe/Stockholm:20260516T120000
DTSTAMP:20260426T023922
CREATED:20240316T153618Z
LAST-MODIFIED:20260325T173529Z
UID:9109-1778922000-1778932800@sommensss.se
SUMMARY:Sjösättning med kranen Våren 2026
DESCRIPTION:Seglarvik\nKranen i Seglarviks hamn är bemannad mellan 9:00 – 12:00
URL:https://sommensss.se/event/kran-i-seglarvik-3/
LOCATION:Seglarvik
CATEGORIES:Event,Kran
END:VEVENT
BEGIN:VEVENT
DTSTART;TZID=Europe/Stockholm:20260519T180000
DTEND;TZID=Europe/Stockholm:20260519T210000
DTSTAMP:20260426T023922
CREATED:20220313T182105Z
LAST-MODIFIED:20260311T193246Z
UID:6389-1779213600-1779224400@sommensss.se
SUMMARY:Kvällskapp Vår 2026
DESCRIPTION:  \nKvällskapp i Seglarvik \n \nLäs även Seglingsföreskrifterna som gäller för denna kappsegling
URL:https://sommensss.se/event/kvallskapp-2/
CATEGORIES:Event,Kappsegling,Kvällskapp
ATTACH;FMTTYPE=image/jpeg:https://sommensss.se/wp-content/uploads/2022/03/segling-4-start03-1.jpg
END:VEVENT
BEGIN:VEVENT
DTSTART;TZID=Europe/Stockholm:20260523T090000
DTEND;TZID=Europe/Stockholm:20260523T120000
DTSTAMP:20260426T023922
CREATED:20240316T153747Z
LAST-MODIFIED:20260325T173645Z
UID:9111-1779526800-1779537600@sommensss.se
SUMMARY:Sjösättning med kranen Våren 2026
DESCRIPTION:Seglarvik\nKranen i Seglarviks hamn är bemannad mellan 9:00 – 12:00
URL:https://sommensss.se/event/kran-i-seglarvik-4/
CATEGORIES:Event,Kran
END:VEVENT
BEGIN:VEVENT
DTSTART;TZID=Europe/Stockholm:20260526T180000
DTEND;TZID=Europe/Stockholm:20260526T210000
DTSTAMP:20260426T023922
CREATED:20220313T075235Z
LAST-MODIFIED:20260311T193418Z
UID:6339-1779818400-1779829200@sommensss.se
SUMMARY:Kvällskapp Vår 2026
DESCRIPTION:Kvällskapp i Seglarvik \n \nLäs även Seglingsföreskrifterna som gäller för denna kappsegling
URL:https://sommensss.se/event/kvallskapp/
LOCATION:Seglarvik
CATEGORIES:Event,Kappsegling,Kvällskapp
ATTACH;FMTTYPE=image/jpeg:https://sommensss.se/wp-content/uploads/2022/03/Kjell-mot-rundning.jpg
END:VEVENT
BEGIN:VEVENT
DTSTART;TZID=Europe/Stockholm:20260602T180000
DTEND;TZID=Europe/Stockholm:20260602T210000
DTSTAMP:20260426T023922
CREATED:20220313T185057Z
LAST-MODIFIED:20260311T193609Z
UID:6392-1780423200-1780434000@sommensss.se
SUMMARY:Kvällskapp Vår 2026
DESCRIPTION:Kvällskapp i Seglarvik \n \nLäs även Seglingsföreskrifterna som gäller för denna kappsegling
URL:https://sommensss.se/event/kvallskapp-3/
CATEGORIES:Event,Kappsegling,Kvällskapp
ATTACH;FMTTYPE=image/jpeg:https://sommensss.se/wp-content/uploads/2022/03/Segling-4-malgang02-1.jpg
END:VEVENT
BEGIN:VEVENT
DTSTART;TZID=Europe/Stockholm:20260604T170000
DTEND;TZID=Europe/Stockholm:20260604T190000
DTSTAMP:20260426T023922
CREATED:20241116T062049Z
LAST-MODIFIED:20241116T062049Z
UID:9893-1780592400-1780599600@sommensss.se
SUMMARY:Varvs- och tomtstädning 2026
DESCRIPTION:Varvs- och tomtstädning kl 17:\nTorsdag 4/6
URL:https://sommensss.se/event/varvs-och-tomtstadning-2026/
LOCATION:Seglarvik
CATEGORIES:Event,Möten
ATTACH;FMTTYPE=image/jpeg:https://sommensss.se/wp-content/uploads/2022/03/19_Y-bom-20200425.jpg
END:VEVENT
BEGIN:VEVENT
DTSTART;TZID=Europe/Stockholm:20260609T180000
DTEND;TZID=Europe/Stockholm:20260609T210000
DTSTAMP:20260426T023922
CREATED:20220313T185335Z
LAST-MODIFIED:20260311T193758Z
UID:6394-1781028000-1781038800@sommensss.se
SUMMARY:Kvällskapp Vår 2026
DESCRIPTION:Kvällskapp i Seglarvik \n \nLäs även Seglingsföreskrifterna som gäller för denna kappsegling
URL:https://sommensss.se/event/kvallskapp-4/
CATEGORIES:Event,Kappsegling,Kvällskapp
ATTACH;FMTTYPE=image/jpeg:https://sommensss.se/wp-content/uploads/2022/03/Segling-4-malgang02-1.jpg
END:VEVENT
BEGIN:VEVENT
DTSTART;TZID=Europe/Stockholm:20260611T190000
DTEND;TZID=Europe/Stockholm:20260611T210000
DTSTAMP:20260426T023922
CREATED:20260115T101149Z
LAST-MODIFIED:20260115T113203Z
UID:10700-1781204400-1781211600@sommensss.se
SUMMARY:Styrelsemöte 2026
DESCRIPTION:Styrelsemöte i Seglarvik kl.19.00
URL:https://sommensss.se/event/styrelsemote-2026-4/
CATEGORIES:Event,Möten,Styrelse,Styrelsemöte
END:VEVENT
BEGIN:VEVENT
DTSTART;VALUE=DATE:20260613
DTEND;VALUE=DATE:20260615
DTSTAMP:20260426T023922
CREATED:20220313T195225Z
LAST-MODIFIED:20260320T063630Z
UID:6422-1781308800-1781481599@sommensss.se
SUMMARY:Norra Vi 2026
DESCRIPTION:Norra Vi\n  \nVackert med gästande båtar i Norra Vi hamn \n \n  \n  \n  \n  \n  \n  \n  \n  \n  \nLäs även Seglingsföreskrifterna som gäller för denna kappsegling
URL:https://sommensss.se/event/norra-vi/
LOCATION:Seglarvik
CATEGORIES:Event,Kappsegling,Segling
ATTACH;FMTTYPE=image/jpeg:https://sommensss.se/wp-content/uploads/2025/06/DSC00683.jpg
END:VEVENT
END:VCALENDAR