BEGIN:VCALENDAR
VERSION:2.0
PRODID:-//Sommens Segelsällskap - ECPv6.15.20//NONSGML v1.0//EN
CALSCALE:GREGORIAN
METHOD:PUBLISH
X-ORIGINAL-URL:https://sommensss.se
X-WR-CALDESC:Händelser för Sommens Segelsällskap
REFRESH-INTERVAL;VALUE=DURATION:PT1H
X-Robots-Tag:noindex
X-PUBLISHED-TTL:PT1H
BEGIN:VTIMEZONE
TZID:Europe/Stockholm
BEGIN:DAYLIGHT
TZOFFSETFROM:+0100
TZOFFSETTO:+0200
TZNAME:CEST
DTSTART:20240331T010000
END:DAYLIGHT
BEGIN:STANDARD
TZOFFSETFROM:+0200
TZOFFSETTO:+0100
TZNAME:CET
DTSTART:20241027T010000
END:STANDARD
BEGIN:DAYLIGHT
TZOFFSETFROM:+0100
TZOFFSETTO:+0200
TZNAME:CEST
DTSTART:20250330T010000
END:DAYLIGHT
BEGIN:STANDARD
TZOFFSETFROM:+0200
TZOFFSETTO:+0100
TZNAME:CET
DTSTART:20251026T010000
END:STANDARD
BEGIN:DAYLIGHT
TZOFFSETFROM:+0100
TZOFFSETTO:+0200
TZNAME:CEST
DTSTART:20260329T010000
END:DAYLIGHT
BEGIN:STANDARD
TZOFFSETFROM:+0200
TZOFFSETTO:+0100
TZNAME:CET
DTSTART:20261025T010000
END:STANDARD
END:VTIMEZONE
BEGIN:VEVENT
DTSTART;TZID=Europe/Stockholm:20250306T190000
DTEND;TZID=Europe/Stockholm:20250306T210000
DTSTAMP:20260424T182843
CREATED:20241116T054934Z
LAST-MODIFIED:20241116T054934Z
UID:9879-1741287600-1741294800@sommensss.se
SUMMARY:Vintermöte 2025
DESCRIPTION:Välkommen till Vintermöte. \n 
URL:https://sommensss.se/event/vintermote-2025/
LOCATION:Seglarvik
CATEGORIES:Event,Möten,Styrelsemöte
ATTACH;FMTTYPE=image/jpeg:https://sommensss.se/wp-content/uploads/2022/03/Is-segling01.jpg
END:VEVENT
BEGIN:VEVENT
DTSTART;TZID=Europe/Stockholm:20250313T190000
DTEND;TZID=Europe/Stockholm:20250313T210000
DTSTAMP:20260424T182843
CREATED:20241126T201655Z
LAST-MODIFIED:20241126T201655Z
UID:9934-1741892400-1741899600@sommensss.se
SUMMARY:Styrelsemöte våren 2025
DESCRIPTION:Dags för styrelsemöte \nVälkommen
URL:https://sommensss.se/event/styrelsemote-varen-2025-2/
LOCATION:Seglarvik
CATEGORIES:Event,Möten,Styrelse
ATTACH;FMTTYPE=image/jpeg:https://sommensss.se/wp-content/uploads/2022/03/Y-bom-ilagg-2018-21.jpg
END:VEVENT
END:VCALENDAR