BEGIN:VCALENDAR
VERSION:2.0
PRODID:-//Sommens Segelsällskap - ECPv6.15.20//NONSGML v1.0//EN
CALSCALE:GREGORIAN
METHOD:PUBLISH
X-WR-CALNAME:Sommens Segelsällskap
X-ORIGINAL-URL:https://sommensss.se
X-WR-CALDESC:Händelser för Sommens Segelsällskap
REFRESH-INTERVAL;VALUE=DURATION:PT1H
X-Robots-Tag:noindex
X-PUBLISHED-TTL:PT1H
BEGIN:VTIMEZONE
TZID:Europe/Stockholm
BEGIN:DAYLIGHT
TZOFFSETFROM:+0100
TZOFFSETTO:+0200
TZNAME:CEST
DTSTART:20230326T010000
END:DAYLIGHT
BEGIN:STANDARD
TZOFFSETFROM:+0200
TZOFFSETTO:+0100
TZNAME:CET
DTSTART:20231029T010000
END:STANDARD
BEGIN:DAYLIGHT
TZOFFSETFROM:+0100
TZOFFSETTO:+0200
TZNAME:CEST
DTSTART:20240331T010000
END:DAYLIGHT
BEGIN:STANDARD
TZOFFSETFROM:+0200
TZOFFSETTO:+0100
TZNAME:CET
DTSTART:20241027T010000
END:STANDARD
BEGIN:DAYLIGHT
TZOFFSETFROM:+0100
TZOFFSETTO:+0200
TZNAME:CEST
DTSTART:20250330T010000
END:DAYLIGHT
BEGIN:STANDARD
TZOFFSETFROM:+0200
TZOFFSETTO:+0100
TZNAME:CET
DTSTART:20251026T010000
END:STANDARD
END:VTIMEZONE
BEGIN:VEVENT
DTSTART;TZID=Europe/Stockholm:20240912T190000
DTEND;TZID=Europe/Stockholm:20240912T210000
DTSTAMP:20260425T130748
CREATED:20221121T120421Z
LAST-MODIFIED:20231119T090447Z
UID:7833-1726167600-1726174800@sommensss.se
SUMMARY:Styrelsemöte
DESCRIPTION:
URL:https://sommensss.se/event/styrelsemote-6/
LOCATION:Seglarvik
CATEGORIES:Event,Styrelsemöte
END:VEVENT
END:VCALENDAR