BEGIN:VCALENDAR
VERSION:2.0
PRODID:-//Sommens Segelsällskap - ECPv6.15.20//NONSGML v1.0//EN
CALSCALE:GREGORIAN
METHOD:PUBLISH
X-ORIGINAL-URL:https://sommensss.se
X-WR-CALDESC:Händelser för Sommens Segelsällskap
REFRESH-INTERVAL;VALUE=DURATION:PT1H
X-Robots-Tag:noindex
X-PUBLISHED-TTL:PT1H
BEGIN:VTIMEZONE
TZID:Europe/Stockholm
BEGIN:DAYLIGHT
TZOFFSETFROM:+0100
TZOFFSETTO:+0200
TZNAME:CEST
DTSTART:20260329T010000
END:DAYLIGHT
BEGIN:STANDARD
TZOFFSETFROM:+0200
TZOFFSETTO:+0100
TZNAME:CET
DTSTART:20261025T010000
END:STANDARD
BEGIN:DAYLIGHT
TZOFFSETFROM:+0100
TZOFFSETTO:+0200
TZNAME:CEST
DTSTART:20270328T010000
END:DAYLIGHT
BEGIN:STANDARD
TZOFFSETFROM:+0200
TZOFFSETTO:+0100
TZNAME:CET
DTSTART:20271031T010000
END:STANDARD
BEGIN:DAYLIGHT
TZOFFSETFROM:+0100
TZOFFSETTO:+0200
TZNAME:CEST
DTSTART:20280326T010000
END:DAYLIGHT
BEGIN:STANDARD
TZOFFSETFROM:+0200
TZOFFSETTO:+0100
TZNAME:CET
DTSTART:20281029T010000
END:STANDARD
END:VTIMEZONE
BEGIN:VEVENT
DTSTART;TZID=Europe/Stockholm:20271016T090000
DTEND;TZID=Europe/Stockholm:20271016T130000
DTSTAMP:20260425T124310
CREATED:20251117T095213Z
LAST-MODIFIED:20251117T095213Z
UID:10604-1823677200-1823691600@sommensss.se
SUMMARY:Upptagning y-bommar tomt städning 2027
DESCRIPTION:Upptagning y-bommar tomt städning 2027
URL:https://sommensss.se/event/upptagning-y-bommar-tomt-stadning-2027/
LOCATION:Seglarvik
CATEGORIES:Event,Möten
ATTACH;FMTTYPE=image/jpeg:https://sommensss.se/wp-content/uploads/2025/10/Bom-arb_1-scaled.jpg
END:VEVENT
END:VCALENDAR